BEGIN:VCALENDAR
VERSION:2.0
PRODID:-//NADI PPR Sri Bidor , Taman Sri Bidor - ECPv6.15.13.1//NONSGML v1.0//EN
CALSCALE:GREGORIAN
METHOD:PUBLISH
X-WR-CALNAME:NADI PPR Sri Bidor , Taman Sri Bidor
X-ORIGINAL-URL:https://pprsribidor.nadi.my
X-WR-CALDESC:Events for NADI PPR Sri Bidor , Taman Sri Bidor
REFRESH-INTERVAL;VALUE=DURATION:PT1H
X-Robots-Tag:noindex
X-PUBLISHED-TTL:PT1H
BEGIN:VTIMEZONE
TZID:Asia/Kuala_Lumpur
BEGIN:STANDARD
TZOFFSETFROM:+0800
TZOFFSETTO:+0800
TZNAME:+08
DTSTART:20240101T000000
END:STANDARD
END:VTIMEZONE
BEGIN:VEVENT
DTSTART;TZID=Asia/Kuala_Lumpur:20251001T080000
DTEND;TZID=Asia/Kuala_Lumpur:20251005T170000
DTSTAMP:20260426T042148
CREATED:20251002T040127Z
LAST-MODIFIED:20251002T040127Z
UID:6161-1759305600-1759683600@pprsribidor.nadi.my
SUMMARY:DEEPFAKE & AI AND SHOPPING SCAM
DESCRIPTION:DEEPFAKE & AI AND SHOPPING SCAM
URL:https://pprsribidor.nadi.my/event/deepfake-ai-and-shopping-scam/
END:VEVENT
BEGIN:VEVENT
DTSTART;TZID=Asia/Kuala_Lumpur:20251001T080000
DTEND;TZID=Asia/Kuala_Lumpur:20251030T170000
DTSTAMP:20260426T042148
CREATED:20251002T035823Z
LAST-MODIFIED:20251002T035823Z
UID:6151-1759305600-1761843600@pprsribidor.nadi.my
SUMMARY:MAHIR : DAILY LIVE CLASS
DESCRIPTION:MAHIR : DAILY LIVE CLASS
URL:https://pprsribidor.nadi.my/event/mahir-daily-live-class-2/
END:VEVENT
BEGIN:VEVENT
DTSTART;TZID=Asia/Kuala_Lumpur:20251002T080000
DTEND;TZID=Asia/Kuala_Lumpur:20251031T170000
DTSTAMP:20260426T042148
CREATED:20251002T035437Z
LAST-MODIFIED:20251002T035437Z
UID:6141-1759392000-1761930000@pprsribidor.nadi.my
SUMMARY:DILEA : WEBINAR\, RAKAMAN\, TUITION 
DESCRIPTION:DILEA : WEBINAR\, RAKAMAN\, TUITION
URL:https://pprsribidor.nadi.my/event/dilea-webinar-rakaman-tuition/
END:VEVENT
BEGIN:VEVENT
DTSTART;TZID=Asia/Kuala_Lumpur:20251003T080000
DTEND;TZID=Asia/Kuala_Lumpur:20251005T170000
DTSTAMP:20260426T042148
CREATED:20251002T035247Z
LAST-MODIFIED:20251002T035247Z
UID:6135-1759478400-1759683600@pprsribidor.nadi.my
SUMMARY:E-SPORTS : AWARENESS  CLASSES
DESCRIPTION:E-SPORTS : AWARENESS CLASSES
URL:https://pprsribidor.nadi.my/event/e-sports-awareness-classes/
END:VEVENT
BEGIN:VEVENT
DTSTART;TZID=Asia/Kuala_Lumpur:20251004T080000
DTEND;TZID=Asia/Kuala_Lumpur:20251004T170000
DTSTAMP:20260426T042148
CREATED:20251002T035400Z
LAST-MODIFIED:20251002T035400Z
UID:6139-1759564800-1759597200@pprsribidor.nadi.my
SUMMARY:DILEA : WEBINAR BI
DESCRIPTION:DILEA : WEBINAR BI
URL:https://pprsribidor.nadi.my/event/dilea-webinar-bi/
END:VEVENT
BEGIN:VEVENT
DTSTART;TZID=Asia/Kuala_Lumpur:20251007T080000
DTEND;TZID=Asia/Kuala_Lumpur:20251007T170000
DTSTAMP:20260426T042148
CREATED:20251002T035524Z
LAST-MODIFIED:20251002T035524Z
UID:6143-1759824000-1759856400@pprsribidor.nadi.my
SUMMARY:E-KELAS : MODULE 1 & 2
DESCRIPTION:E-KELAS : MODULE 1 & 2
URL:https://pprsribidor.nadi.my/event/e-kelas-module-1-2/
END:VEVENT
BEGIN:VEVENT
DTSTART;TZID=Asia/Kuala_Lumpur:20251009T080000
DTEND;TZID=Asia/Kuala_Lumpur:20251009T170000
DTSTAMP:20260426T042148
CREATED:20251002T035602Z
LAST-MODIFIED:20251002T035602Z
UID:6145-1759996800-1760029200@pprsribidor.nadi.my
SUMMARY:E-KELAS : MODULE 3 & 4
DESCRIPTION:E-KELAS : MODULE 3 & 4
URL:https://pprsribidor.nadi.my/event/e-kelas-module-3-4/
END:VEVENT
BEGIN:VEVENT
DTSTART;TZID=Asia/Kuala_Lumpur:20251010T080000
DTEND;TZID=Asia/Kuala_Lumpur:20251010T170000
DTSTAMP:20260426T042148
CREATED:20251002T040041Z
LAST-MODIFIED:20251002T040041Z
UID:6157-1760083200-1760115600@pprsribidor.nadi.my
SUMMARY:WEBINAR CYBERSECURITY
DESCRIPTION:WEBINAR CYBERSECURITY
URL:https://pprsribidor.nadi.my/event/webinar-cybersecurity-7/
END:VEVENT
BEGIN:VEVENT
DTSTART;TZID=Asia/Kuala_Lumpur:20251010T080000
DTEND;TZID=Asia/Kuala_Lumpur:20251012T170000
DTSTAMP:20260426T042148
CREATED:20251002T035308Z
LAST-MODIFIED:20251002T035308Z
UID:6137-1760083200-1760288400@pprsribidor.nadi.my
SUMMARY:E-SPORTS : AWARENESS CLASSES
DESCRIPTION:E-SPORTS : AWARENESS CLASSES
URL:https://pprsribidor.nadi.my/event/e-sports-awareness-classes-2/
END:VEVENT
BEGIN:VEVENT
DTSTART;TZID=Asia/Kuala_Lumpur:20251011T080000
DTEND;TZID=Asia/Kuala_Lumpur:20251011T170000
DTSTAMP:20260426T042148
CREATED:20251002T035031Z
LAST-MODIFIED:20251002T035031Z
UID:6127-1760169600-1760202000@pprsribidor.nadi.my
SUMMARY:COHORT 6: WEBINAR PELAN PERNIAGAAN PERTAMA SAYA
DESCRIPTION:COHORT 6: WEBINAR PELAN PERNIAGAAN PERTAMA SAYA
URL:https://pprsribidor.nadi.my/event/cohort-6-webinar-pelan-perniagaan-pertama-saya/
END:VEVENT
BEGIN:VEVENT
DTSTART;TZID=Asia/Kuala_Lumpur:20251011T080000
DTEND;TZID=Asia/Kuala_Lumpur:20251011T170000
DTSTAMP:20260426T042148
CREATED:20251002T035925Z
LAST-MODIFIED:20251002T035925Z
UID:6153-1760169600-1760202000@pprsribidor.nadi.my
SUMMARY:TINY TECHIES : ROBOTICS CLASS
DESCRIPTION:TINY TECHIES : ROBOTICS CLASS
URL:https://pprsribidor.nadi.my/event/tiny-techies-robotics-class/
END:VEVENT
BEGIN:VEVENT
DTSTART;TZID=Asia/Kuala_Lumpur:20251013T080000
DTEND;TZID=Asia/Kuala_Lumpur:20251013T170000
DTSTAMP:20260426T042148
CREATED:20251002T035114Z
LAST-MODIFIED:20251002T035114Z
UID:6129-1760342400-1760374800@pprsribidor.nadi.my
SUMMARY:COHORT 6: VIDEO PERANCANGAN PERNIAGAAN & KEWANGAN
DESCRIPTION:COHORT 6: VIDEO PERANCANGAN PERNIAGAAN & KEWANGAN
URL:https://pprsribidor.nadi.my/event/cohort-6-video-perancangan-perniagaan-kewangan/
END:VEVENT
BEGIN:VEVENT
DTSTART;TZID=Asia/Kuala_Lumpur:20251013T080000
DTEND;TZID=Asia/Kuala_Lumpur:20251013T170000
DTSTAMP:20260426T042148
CREATED:20251002T035142Z
LAST-MODIFIED:20251002T035142Z
UID:6131-1760342400-1760374800@pprsribidor.nadi.my
SUMMARY:COHORT 7: PENDAFTARAN & TONTONAN VIDEO PRA-LATIHAN
DESCRIPTION:COHORT 7: PENDAFTARAN & TONTONAN VIDEO PRA-LATIHAN
URL:https://pprsribidor.nadi.my/event/cohort-7-pendaftaran-tontonan-video-pra-latihan/
END:VEVENT
BEGIN:VEVENT
DTSTART;TZID=Asia/Kuala_Lumpur:20251013T080000
DTEND;TZID=Asia/Kuala_Lumpur:20251016T170000
DTSTAMP:20260426T042148
CREATED:20251002T040222Z
LAST-MODIFIED:20251002T040222Z
UID:6165-1760342400-1760634000@pprsribidor.nadi.my
SUMMARY:LINDUNGI DATA PERIBADI & BULI SIBER
DESCRIPTION:LINDUNGI DATA PERIBADI & BULI SIBER
URL:https://pprsribidor.nadi.my/event/lindungi-data-peribadi-buli-siber/
END:VEVENT
BEGIN:VEVENT
DTSTART;TZID=Asia/Kuala_Lumpur:20251016T080000
DTEND;TZID=Asia/Kuala_Lumpur:20251016T170000
DTSTAMP:20260426T042148
CREATED:20251002T034552Z
LAST-MODIFIED:20251002T034552Z
UID:6119-1760601600-1760634000@pprsribidor.nadi.my
SUMMARY:WEBINAR - PEMASARAN & OPERASI PERNIAGAAN
DESCRIPTION:WEBINAR – PEMASARAN & OPERASI PERNIAGAAN
URL:https://pprsribidor.nadi.my/event/webinar-pemasaran-operasi-perniagaan/
END:VEVENT
BEGIN:VEVENT
DTSTART;TZID=Asia/Kuala_Lumpur:20251018T080000
DTEND;TZID=Asia/Kuala_Lumpur:20251018T170000
DTSTAMP:20260426T042148
CREATED:20251002T040005Z
LAST-MODIFIED:20251002T040005Z
UID:6155-1760774400-1760806800@pprsribidor.nadi.my
SUMMARY:TINY TECHIES : INNOVATION CLASS
DESCRIPTION:TINY TECHIES : INNOVATION CLASS
URL:https://pprsribidor.nadi.my/event/tiny-techies-innovation-class/
END:VEVENT
BEGIN:VEVENT
DTSTART;TZID=Asia/Kuala_Lumpur:20251018T080000
DTEND;TZID=Asia/Kuala_Lumpur:20251018T170000
DTSTAMP:20260426T042148
CREATED:20251002T040151Z
LAST-MODIFIED:20251002T040151Z
UID:6163-1760774400-1760806800@pprsribidor.nadi.my
SUMMARY:DEEPFAKE & AI AND SHOPPING SCAM
DESCRIPTION:DEEPFAKE & AI AND SHOPPING SCAM
URL:https://pprsribidor.nadi.my/event/deepfake-ai-and-shopping-scam-2/
END:VEVENT
BEGIN:VEVENT
DTSTART;TZID=Asia/Kuala_Lumpur:20251018T080000
DTEND;TZID=Asia/Kuala_Lumpur:20251018T170000
DTSTAMP:20260426T042148
CREATED:20251002T040248Z
LAST-MODIFIED:20251002T040248Z
UID:6167-1760774400-1760806800@pprsribidor.nadi.my
SUMMARY:WEBINAR DEEPFAKE & AI – BOLEH PERCAYA KE SEMUA VIDEO?
DESCRIPTION:WEBINAR DEEPFAKE & AI – BOLEH PERCAYA KE SEMUA VIDEO?
URL:https://pprsribidor.nadi.my/event/webinar-deepfake-ai-boleh-percaya-ke-semua-video/
END:VEVENT
BEGIN:VEVENT
DTSTART;TZID=Asia/Kuala_Lumpur:20251021T080000
DTEND;TZID=Asia/Kuala_Lumpur:20251021T170000
DTSTAMP:20260426T042148
CREATED:20251002T035658Z
LAST-MODIFIED:20251002T035658Z
UID:6149-1761033600-1761066000@pprsribidor.nadi.my
SUMMARY:E-KELAS : MODULE 1 & 2
DESCRIPTION:E-KELAS : MODULE 1 & 2
URL:https://pprsribidor.nadi.my/event/e-kelas-module-1-2-2/
END:VEVENT
BEGIN:VEVENT
DTSTART;TZID=Asia/Kuala_Lumpur:20251021T090000
DTEND;TZID=Asia/Kuala_Lumpur:20251021T170000
DTSTAMP:20260426T042148
CREATED:20251002T034757Z
LAST-MODIFIED:20251002T034757Z
UID:6121-1761037200-1761066000@pprsribidor.nadi.my
SUMMARY:EMPOWHER COHORT 5 PODCAST:  BUAL KOMBUCHA: INSPIRASI DI SEBALIK RASA
DESCRIPTION:EMPOWHER COHORT 5 PODCAST:  BUAL KOMBUCHA: INSPIRASI DI SEBALIK RASA
URL:https://pprsribidor.nadi.my/event/empowher-cohort-5-podcast-bual-kombucha-inspirasi-di-sebalik-rasa/
END:VEVENT
BEGIN:VEVENT
DTSTART;TZID=Asia/Kuala_Lumpur:20251023T080000
DTEND;TZID=Asia/Kuala_Lumpur:20251023T170000
DTSTAMP:20260426T042148
CREATED:20251002T035624Z
LAST-MODIFIED:20251002T035624Z
UID:6147-1761206400-1761238800@pprsribidor.nadi.my
SUMMARY:E-KELAS : MODULE 3 & 4
DESCRIPTION:E-KELAS : MODULE 3 & 4
URL:https://pprsribidor.nadi.my/event/e-kelas-module-3-4-2/
END:VEVENT
BEGIN:VEVENT
DTSTART;TZID=Asia/Kuala_Lumpur:20251024T080000
DTEND;TZID=Asia/Kuala_Lumpur:20251024T170000
DTSTAMP:20260426T042148
CREATED:20251002T040100Z
LAST-MODIFIED:20251002T040100Z
UID:6159-1761292800-1761325200@pprsribidor.nadi.my
SUMMARY:WEBINAR CYBERSECURITY
DESCRIPTION:WEBINAR CYBERSECURITY
URL:https://pprsribidor.nadi.my/event/webinar-cybersecurity-8/
END:VEVENT
BEGIN:VEVENT
DTSTART;TZID=Asia/Kuala_Lumpur:20251025T080000
DTEND;TZID=Asia/Kuala_Lumpur:20251025T170000
DTSTAMP:20260426T042148
CREATED:20251002T035203Z
LAST-MODIFIED:20251002T035203Z
UID:6133-1761379200-1761411600@pprsribidor.nadi.my
SUMMARY:COHORT 7: WEBINAR PERANCANGAN KEWANGAN
DESCRIPTION:COHORT 7: WEBINAR PERANCANGAN KEWANGAN
URL:https://pprsribidor.nadi.my/event/cohort-7-webinar-perancangan-kewangan/
END:VEVENT
BEGIN:VEVENT
DTSTART;TZID=Asia/Kuala_Lumpur:20251028T080000
DTEND;TZID=Asia/Kuala_Lumpur:20251028T170000
DTSTAMP:20260426T042148
CREATED:20251002T034956Z
LAST-MODIFIED:20251002T034956Z
UID:6125-1761638400-1761670800@pprsribidor.nadi.my
SUMMARY:COHORT 6: PENDAFTARAN & TONTONAN VIDEO PRA-LATIHAN
DESCRIPTION:COHORT 6: PENDAFTARAN & TONTONAN VIDEO PRA-LATIHAN
URL:https://pprsribidor.nadi.my/event/cohort-6-pendaftaran-tontonan-video-pra-latihan/
END:VEVENT
BEGIN:VEVENT
DTSTART;TZID=Asia/Kuala_Lumpur:20251028T090000
DTEND;TZID=Asia/Kuala_Lumpur:20251028T170000
DTSTAMP:20260426T042148
CREATED:20251002T034934Z
LAST-MODIFIED:20251002T034934Z
UID:6123-1761642000-1761670800@pprsribidor.nadi.my
SUMMARY:COHORT 5 PODCAST: TEKNOLOGI DALAM DUNIA USAHAWAN.
DESCRIPTION:COHORT 5 PODCAST: TEKNOLOGI DALAM DUNIA USAHAWAN.
URL:https://pprsribidor.nadi.my/event/cohort-5-podcast-teknologi-dalam-dunia-usahawan/
END:VEVENT
END:VCALENDAR