BEGIN:VCALENDAR
VERSION:2.0
PRODID:-//NADI PPR Sri Bidor , Taman Sri Bidor - ECPv6.15.13.1//NONSGML v1.0//EN
CALSCALE:GREGORIAN
METHOD:PUBLISH
X-WR-CALNAME:NADI PPR Sri Bidor , Taman Sri Bidor
X-ORIGINAL-URL:https://pprsribidor.nadi.my
X-WR-CALDESC:Events for NADI PPR Sri Bidor , Taman Sri Bidor
REFRESH-INTERVAL;VALUE=DURATION:PT1H
X-Robots-Tag:noindex
X-PUBLISHED-TTL:PT1H
BEGIN:VTIMEZONE
TZID:Asia/Kuala_Lumpur
BEGIN:STANDARD
TZOFFSETFROM:+0800
TZOFFSETTO:+0800
TZNAME:+08
DTSTART:20240101T000000
END:STANDARD
END:VTIMEZONE
BEGIN:VEVENT
DTSTART;TZID=Asia/Kuala_Lumpur:20251208T090000
DTEND;TZID=Asia/Kuala_Lumpur:20251214T170000
DTSTAMP:20260424T154814
CREATED:20251203T062925Z
LAST-MODIFIED:20251203T062925Z
UID:6434-1765184400-1765731600@pprsribidor.nadi.my
SUMMARY:COHORT 8: VIDEO PERANCANGAN PERNIAGAAN & PERANCANGAN KEWANGAN
DESCRIPTION:COHORT 8: VIDEO PERANCANGAN PERNIAGAAN & PERANCANGAN KEWANGAN
URL:https://pprsribidor.nadi.my/event/cohort-8-video-perancangan-perniagaan-perancangan-kewangan/
END:VEVENT
BEGIN:VEVENT
DTSTART;TZID=Asia/Kuala_Lumpur:20251208T090000
DTEND;TZID=Asia/Kuala_Lumpur:20251214T170000
DTSTAMP:20260424T154814
CREATED:20251203T021221Z
LAST-MODIFIED:20251203T021221Z
UID:6424-1765184400-1765731600@pprsribidor.nadi.my
SUMMARY:COHORT 6: WEBINAR - PEMASARAN & OPERASI PERNIAGAAN
DESCRIPTION:COHORT 6: WEBINAR – PEMASARAN & OPERASI PERNIAGAAN
URL:https://pprsribidor.nadi.my/event/cohort-6-webinar-pemasaran-operasi-perniagaan/
END:VEVENT
BEGIN:VEVENT
DTSTART;TZID=Asia/Kuala_Lumpur:20251205T090000
DTEND;TZID=Asia/Kuala_Lumpur:20251207T170000
DTSTAMP:20260424T154814
CREATED:20251203T063134Z
LAST-MODIFIED:20251203T063134Z
UID:6438-1764925200-1765126800@pprsribidor.nadi.my
SUMMARY:AWARENESS CLASS (E-SPORT): ANTI BULI & ETIKA KOMUNITI
DESCRIPTION:AWARENESS CLASS (E-SPORT): ANTI BULI & ETIKA KOMUNITI
URL:https://pprsribidor.nadi.my/event/awareness-class-e-sport-anti-buli-etika-komuniti/
END:VEVENT
BEGIN:VEVENT
DTSTART;TZID=Asia/Kuala_Lumpur:20251204T150000
DTEND;TZID=Asia/Kuala_Lumpur:20251204T163000
DTSTAMP:20260424T154814
CREATED:20251203T063522Z
LAST-MODIFIED:20251203T063522Z
UID:6446-1764860400-1764865800@pprsribidor.nadi.my
SUMMARY:[WEBINAR DECEMBER NADI x CYBERSECURITY]  ANCAMAN KAMERA TERSEMBUNYI\, APA YANG PERLU ANDA TAHU
DESCRIPTION:[WEBINAR DECEMBER NADI x CYBERSECURITY]\nANCAMAN KAMERA TERSEMBUNYI\, APA YANG PERLU ANDA TAHU
URL:https://pprsribidor.nadi.my/event/webinar-december-nadi-x-cybersecurity-ancaman-kamera-tersembunyi-apa-yang-perlu-anda-tahu/
END:VEVENT
BEGIN:VEVENT
DTSTART;TZID=Asia/Kuala_Lumpur:20251201T090000
DTEND;TZID=Asia/Kuala_Lumpur:20251207T170000
DTSTAMP:20260424T154814
CREATED:20251203T062856Z
LAST-MODIFIED:20251203T062856Z
UID:6432-1764579600-1765126800@pprsribidor.nadi.my
SUMMARY:COHORT 8: WEBINAR PELAN PERNIAGAAN PERTAMA SAYA
DESCRIPTION:COHORT 8: WEBINAR PELAN PERNIAGAAN PERTAMA SAYA
URL:https://pprsribidor.nadi.my/event/cohort-8-webinar-pelan-perniagaan-pertama-saya/
END:VEVENT
BEGIN:VEVENT
DTSTART;TZID=Asia/Kuala_Lumpur:20251201T080000
DTEND;TZID=Asia/Kuala_Lumpur:20251219T170000
DTSTAMP:20260424T154814
CREATED:20251203T063400Z
LAST-MODIFIED:20251203T063400Z
UID:6444-1764576000-1766163600@pprsribidor.nadi.my
SUMMARY:15 MAHIR DAILY CLASSES
DESCRIPTION:15 MAHIR DAILY CLASSES
URL:https://pprsribidor.nadi.my/event/15-mahir-daily-classes/
END:VEVENT
BEGIN:VEVENT
DTSTART;TZID=Asia/Kuala_Lumpur:20251129T090000
DTEND;TZID=Asia/Kuala_Lumpur:20251129T170000
DTSTAMP:20260424T154814
CREATED:20251101T020436Z
LAST-MODIFIED:20251101T020436Z
UID:6312-1764406800-1764435600@pprsribidor.nadi.my
SUMMARY:WEBINAR MT EDISI 5
DESCRIPTION:WEBINAR MT EDISI 5
URL:https://pprsribidor.nadi.my/event/webinar-mt-edisi-5/
END:VEVENT
BEGIN:VEVENT
DTSTART;TZID=Asia/Kuala_Lumpur:20251129T090000
DTEND;TZID=Asia/Kuala_Lumpur:20251129T170000
DTSTAMP:20260424T154814
CREATED:20251101T015744Z
LAST-MODIFIED:20251101T015744Z
UID:6290-1764406800-1764435600@pprsribidor.nadi.my
SUMMARY:KIDVENTURE COHORT 8: WEBINAR OPERASI PERNIAGAAN
DESCRIPTION:KIDVENTURE COHORT 8: WEBINAR OPERASI PERNIAGAAN
URL:https://pprsribidor.nadi.my/event/kidventure-cohort-8-webinar-operasi-perniagaan/
END:VEVENT
BEGIN:VEVENT
DTSTART;TZID=Asia/Kuala_Lumpur:20251128T090000
DTEND;TZID=Asia/Kuala_Lumpur:20251128T180000
DTSTAMP:20260424T154814
CREATED:20251101T020123Z
LAST-MODIFIED:20251101T020123Z
UID:6304-1764320400-1764352800@pprsribidor.nadi.my
SUMMARY:AWARENESS CLASS
DESCRIPTION:AWARENESS CLASS
URL:https://pprsribidor.nadi.my/event/awareness-class-4/
END:VEVENT
BEGIN:VEVENT
DTSTART;TZID=Asia/Kuala_Lumpur:20251128T090000
DTEND;TZID=Asia/Kuala_Lumpur:20251128T170000
DTSTAMP:20260424T154814
CREATED:20251101T020152Z
LAST-MODIFIED:20251101T020152Z
UID:6306-1764320400-1764349200@pprsribidor.nadi.my
SUMMARY:WEBINAR
DESCRIPTION:WEBINAR
URL:https://pprsribidor.nadi.my/event/webinar-4/
END:VEVENT
BEGIN:VEVENT
DTSTART;TZID=Asia/Kuala_Lumpur:20251125T090000
DTEND;TZID=Asia/Kuala_Lumpur:20251125T170000
DTSTAMP:20260424T154814
CREATED:20251101T015511Z
LAST-MODIFIED:20251101T015511Z
UID:6280-1764061200-1764090000@pprsribidor.nadi.my
SUMMARY:NADIPRENEUR & EMPOWHER COHORT 6: PODCAST LINDUNGI PERNIAGAAN DENGAN KESELAMATAN SIBER
DESCRIPTION:NADIPRENEUR & EMPOWHER COHORT 6: PODCAST LINDUNGI PERNIAGAAN DENGAN KESELAMATAN SIBER
URL:https://pprsribidor.nadi.my/event/nadipreneur-empowher-cohort-6-podcast-lindungi-perniagaan-dengan-keselamatan-siber/
END:VEVENT
BEGIN:VEVENT
DTSTART;TZID=Asia/Kuala_Lumpur:20251122T090000
DTEND;TZID=Asia/Kuala_Lumpur:20251122T170000
DTSTAMP:20260424T154814
CREATED:20251101T021052Z
LAST-MODIFIED:20251101T021052Z
UID:6329-1763802000-1763830800@pprsribidor.nadi.my
SUMMARY:SUMO ROBOT WORKSHOP SESSION 4
DESCRIPTION:SUMO ROBOT WORKSHOP SESSION 4
URL:https://pprsribidor.nadi.my/event/sumo-robot-workshop-session-4-2/
END:VEVENT
BEGIN:VEVENT
DTSTART;TZID=Asia/Kuala_Lumpur:20251122T090000
DTEND;TZID=Asia/Kuala_Lumpur:20251122T170000
DTSTAMP:20260424T154814
CREATED:20251101T021029Z
LAST-MODIFIED:20251101T021029Z
UID:6327-1763802000-1763830800@pprsribidor.nadi.my
SUMMARY:IOT INNOVATION WORKSHOP SESI 4
DESCRIPTION:IOT INNOVATION WORKSHOP SESI 4
URL:https://pprsribidor.nadi.my/event/iot-innovation-workshop-sesi-4-2/
END:VEVENT
BEGIN:VEVENT
DTSTART;TZID=Asia/Kuala_Lumpur:20251122T090000
DTEND;TZID=Asia/Kuala_Lumpur:20251122T170000
DTSTAMP:20260424T154814
CREATED:20251101T020401Z
LAST-MODIFIED:20251101T020401Z
UID:6310-1763802000-1763830800@pprsribidor.nadi.my
SUMMARY:WEBINAR BERKALA BM
DESCRIPTION:WEBINAR BERKALA BM
URL:https://pprsribidor.nadi.my/event/webinar-berkala-bm/
END:VEVENT
BEGIN:VEVENT
DTSTART;TZID=Asia/Kuala_Lumpur:20251121T090000
DTEND;TZID=Asia/Kuala_Lumpur:20251123T170000
DTSTAMP:20260424T154814
CREATED:20251101T020025Z
LAST-MODIFIED:20251101T020025Z
UID:6302-1763715600-1763917200@pprsribidor.nadi.my
SUMMARY:AWARENESS CLASS
DESCRIPTION:AWARENESS CLASS
URL:https://pprsribidor.nadi.my/event/awareness-class-3/
END:VEVENT
BEGIN:VEVENT
DTSTART;TZID=Asia/Kuala_Lumpur:20251120T150000
DTEND;TZID=Asia/Kuala_Lumpur:20251120T163000
DTSTAMP:20260424T154814
CREATED:20251101T021209Z
LAST-MODIFIED:20251101T021209Z
UID:6333-1763650800-1763656200@pprsribidor.nadi.my
SUMMARY:WEBINAR CYBERSECURITY
DESCRIPTION:WEBINAR CYBERSECURITY
URL:https://pprsribidor.nadi.my/event/webinar-cybersecurity-10/
END:VEVENT
BEGIN:VEVENT
DTSTART;TZID=Asia/Kuala_Lumpur:20251120T140000
DTEND;TZID=Asia/Kuala_Lumpur:20251120T150000
DTSTAMP:20260424T154814
CREATED:20251101T020910Z
LAST-MODIFIED:20251101T020910Z
UID:6321-1763647200-1763650800@pprsribidor.nadi.my
SUMMARY:E-KELAS Module 4
DESCRIPTION:E-KELAS Module 4
URL:https://pprsribidor.nadi.my/event/e-kelas-module-4/
END:VEVENT
BEGIN:VEVENT
DTSTART;TZID=Asia/Kuala_Lumpur:20251118T100000
DTEND;TZID=Asia/Kuala_Lumpur:20251118T110000
DTSTAMP:20260424T154814
CREATED:20251101T020836Z
LAST-MODIFIED:20251101T020836Z
UID:6319-1763460000-1763463600@pprsribidor.nadi.my
SUMMARY:E-KELAS Module 3
DESCRIPTION:E-KELAS Module 3
URL:https://pprsribidor.nadi.my/event/e-kelas-module-3/
END:VEVENT
BEGIN:VEVENT
DTSTART;TZID=Asia/Kuala_Lumpur:20251118T090000
DTEND;TZID=Asia/Kuala_Lumpur:20251118T170000
DTSTAMP:20260424T154814
CREATED:20251101T015447Z
LAST-MODIFIED:20251101T015447Z
UID:6278-1763456400-1763485200@pprsribidor.nadi.my
SUMMARY:EMPOWHER COHORT 6: PODCAST PEKERJA POWER SYARIKAT SUPER
DESCRIPTION:EMPOWHER COHORT 6: PODCAST PEKERJA POWER SYARIKAT SUPER
URL:https://pprsribidor.nadi.my/event/empowher-cohort-6-podcast-pekerja-power-syarikat-super/
END:VEVENT
BEGIN:VEVENT
DTSTART;TZID=Asia/Kuala_Lumpur:20251117T090000
DTEND;TZID=Asia/Kuala_Lumpur:20251117T170000
DTSTAMP:20260424T154814
CREATED:20251101T015705Z
LAST-MODIFIED:20251101T015705Z
UID:6286-1763370000-1763398800@pprsribidor.nadi.my
SUMMARY:KIDVENTURE COHORT 7: VIDEO PEMAASARAN & OPERASI PERNIAGAAN
DESCRIPTION:KIDVENTURE COHORT 7: VIDEO PEMAASARAN & OPERASI PERNIAGAAN
URL:https://pprsribidor.nadi.my/event/kidventure-cohort-7-video-pemaasaran-operasi-perniagaan/
END:VEVENT
BEGIN:VEVENT
DTSTART;TZID=Asia/Kuala_Lumpur:20251117T080000
DTEND;TZID=Asia/Kuala_Lumpur:20251117T170000
DTSTAMP:20260424T154814
CREATED:20251101T015724Z
LAST-MODIFIED:20251101T015724Z
UID:6288-1763366400-1763398800@pprsribidor.nadi.my
SUMMARY:KIDVENTURE COHORT 8: PENDAFTARAN & TONTONAN VIDEO PRA-LATIHAN
DESCRIPTION:KIDVENTURE COHORT 8: PENDAFTARAN & TONTONAN VIDEO PRA-LATIHAN
URL:https://pprsribidor.nadi.my/event/kidventure-cohort-8-pendaftaran-tontonan-video-pra-latihan/
END:VEVENT
BEGIN:VEVENT
DTSTART;TZID=Asia/Kuala_Lumpur:20251115T090000
DTEND;TZID=Asia/Kuala_Lumpur:20251115T180000
DTSTAMP:20260424T154814
CREATED:20251101T020002Z
LAST-MODIFIED:20251101T020002Z
UID:6300-1763197200-1763229600@pprsribidor.nadi.my
SUMMARY:(TBC): NADI FINAL STATE LEVEL TOURNAMENT
DESCRIPTION:(TBC): NADI FINAL STATE LEVEL TOURNAMENT
URL:https://pprsribidor.nadi.my/event/tbc-nadi-final-state-level-tournament/
END:VEVENT
BEGIN:VEVENT
DTSTART;TZID=Asia/Kuala_Lumpur:20251115T090000
DTEND;TZID=Asia/Kuala_Lumpur:20251115T170000
DTSTAMP:20260424T154814
CREATED:20251101T015638Z
LAST-MODIFIED:20251101T015638Z
UID:6284-1763197200-1763226000@pprsribidor.nadi.my
SUMMARY:KIDVENTURE COHORT 7: WEBINAR PEMASARAN
DESCRIPTION:KIDVENTURE COHORT 7: WEBINAR PEMASARAN
URL:https://pprsribidor.nadi.my/event/kidventure-cohort-7-webinar-pemasaran/
END:VEVENT
BEGIN:VEVENT
DTSTART;TZID=Asia/Kuala_Lumpur:20251114T090000
DTEND;TZID=Asia/Kuala_Lumpur:20251116T170000
DTSTAMP:20260424T154814
CREATED:20251101T015928Z
LAST-MODIFIED:20251101T015928Z
UID:6298-1763110800-1763312400@pprsribidor.nadi.my
SUMMARY:AWARENESS CLASS
DESCRIPTION:AWARENESS CLASS
URL:https://pprsribidor.nadi.my/event/awareness-class-2/
END:VEVENT
BEGIN:VEVENT
DTSTART;TZID=Asia/Kuala_Lumpur:20251113T090000
DTEND;TZID=Asia/Kuala_Lumpur:20251113T170000
DTSTAMP:20260424T154814
CREATED:20251101T015422Z
LAST-MODIFIED:20251101T015422Z
UID:6276-1763024400-1763053200@pprsribidor.nadi.my
SUMMARY:NADIPRENEUR & EMPOWHER COHORT 6: PENGURUSAN KEWANGAN & PERANCANGAN PERNIAGAAN
DESCRIPTION:NADIPRENEUR & EMPOWHER COHORT 6: PENGURUSAN KEWANGAN & PERANCANGAN PERNIAGAAN
URL:https://pprsribidor.nadi.my/event/nadipreneur-empowher-cohort-6-pengurusan-kewangan-perancangan-perniagaan/
END:VEVENT
BEGIN:VEVENT
DTSTART;TZID=Asia/Kuala_Lumpur:20251108T090000
DTEND;TZID=Asia/Kuala_Lumpur:20251108T170000
DTSTAMP:20260424T154814
CREATED:20251101T021007Z
LAST-MODIFIED:20251101T021007Z
UID:6325-1762592400-1762621200@pprsribidor.nadi.my
SUMMARY:IOT INNOVATION WORKSHOP SESI 4
DESCRIPTION:IOT INNOVATION WORKSHOP SESI 4
URL:https://pprsribidor.nadi.my/event/iot-innovation-workshop-sesi-4/
END:VEVENT
BEGIN:VEVENT
DTSTART;TZID=Asia/Kuala_Lumpur:20251108T090000
DTEND;TZID=Asia/Kuala_Lumpur:20251108T170000
DTSTAMP:20260424T154814
CREATED:20251101T020939Z
LAST-MODIFIED:20251101T020939Z
UID:6323-1762592400-1762621200@pprsribidor.nadi.my
SUMMARY:SUMO ROBOT WORKSHOP SESSION 4
DESCRIPTION:SUMO ROBOT WORKSHOP SESSION 4
URL:https://pprsribidor.nadi.my/event/sumo-robot-workshop-session-4/
END:VEVENT
BEGIN:VEVENT
DTSTART;TZID=Asia/Kuala_Lumpur:20251108T090000
DTEND;TZID=Asia/Kuala_Lumpur:20251108T170000
DTSTAMP:20260424T154814
CREATED:20251101T015900Z
LAST-MODIFIED:20251101T015900Z
UID:6296-1762592400-1762621200@pprsribidor.nadi.my
SUMMARY:STATE LEVEL TOURNAMENT - PLAYOFF
DESCRIPTION:STATE LEVEL TOURNAMENT – PLAYOFF
URL:https://pprsribidor.nadi.my/event/state-level-tournament-playoff/
END:VEVENT
BEGIN:VEVENT
DTSTART;TZID=Asia/Kuala_Lumpur:20251107T090000
DTEND;TZID=Asia/Kuala_Lumpur:20251109T170000
DTSTAMP:20260424T154814
CREATED:20251101T015839Z
LAST-MODIFIED:20251101T015839Z
UID:6294-1762506000-1762707600@pprsribidor.nadi.my
SUMMARY:AWARENESS CLASS
DESCRIPTION:AWARENESS CLASS
URL:https://pprsribidor.nadi.my/event/awareness-class/
END:VEVENT
BEGIN:VEVENT
DTSTART;TZID=Asia/Kuala_Lumpur:20251106T150000
DTEND;TZID=Asia/Kuala_Lumpur:20251106T163000
DTSTAMP:20260424T154814
CREATED:20251101T021132Z
LAST-MODIFIED:20251101T021132Z
UID:6331-1762441200-1762446600@pprsribidor.nadi.my
SUMMARY:WEBINAR CYBERSECURITY
DESCRIPTION:WEBINAR CYBERSECURITY
URL:https://pprsribidor.nadi.my/event/webinar-cybersecurity-9/
END:VEVENT
END:VCALENDAR