BEGIN:VCALENDAR
VERSION:2.0
PRODID:-//NADI PPR Sri Bidor , Taman Sri Bidor - ECPv6.15.13.1//NONSGML v1.0//EN
CALSCALE:GREGORIAN
METHOD:PUBLISH
X-WR-CALNAME:NADI PPR Sri Bidor , Taman Sri Bidor
X-ORIGINAL-URL:https://pprsribidor.nadi.my
X-WR-CALDESC:Events for NADI PPR Sri Bidor , Taman Sri Bidor
REFRESH-INTERVAL;VALUE=DURATION:PT1H
X-Robots-Tag:noindex
X-PUBLISHED-TTL:PT1H
BEGIN:VTIMEZONE
TZID:Asia/Kuala_Lumpur
BEGIN:STANDARD
TZOFFSETFROM:+0800
TZOFFSETTO:+0800
TZNAME:+08
DTSTART:20240101T000000
END:STANDARD
END:VTIMEZONE
BEGIN:VEVENT
DTSTART;TZID=Asia/Kuala_Lumpur:20251101T090000
DTEND;TZID=Asia/Kuala_Lumpur:20251107T170000
DTSTAMP:20260421T112135
CREATED:20251101T015616Z
LAST-MODIFIED:20251101T015616Z
UID:6282-1761987600-1762534800@pprsribidor.nadi.my
SUMMARY:EDISI EKSPRES KIDVENTURE
DESCRIPTION:EDISI EKSPRES KIDVENTURE
URL:https://pprsribidor.nadi.my/event/edisi-ekspres-kidventure/
END:VEVENT
BEGIN:VEVENT
DTSTART;TZID=Asia/Kuala_Lumpur:20251101T210000
DTEND;TZID=Asia/Kuala_Lumpur:20251129T170000
DTSTAMP:20260421T112135
CREATED:20251101T020257Z
LAST-MODIFIED:20251101T020257Z
UID:6308-1762030800-1764435600@pprsribidor.nadi.my
SUMMARY:DILEA: VOD - REVISION VIDEO 14
DESCRIPTION:DILEA: VOD – REVISION VIDEO 14
URL:https://pprsribidor.nadi.my/event/dilea-vod-revision-video-14/
END:VEVENT
BEGIN:VEVENT
DTSTART;TZID=Asia/Kuala_Lumpur:20251103T090000
DTEND;TZID=Asia/Kuala_Lumpur:20251107T170000
DTSTAMP:20260421T112135
CREATED:20251101T015355Z
LAST-MODIFIED:20251101T015355Z
UID:6274-1762160400-1762534800@pprsribidor.nadi.my
SUMMARY:EDISI EKSPRES NADIPRENEUR & EMPOWHER
DESCRIPTION:EDISI EKSPRES NADIPRENEUR & EMPOWHER
URL:https://pprsribidor.nadi.my/event/edisi-ekspres-nadipreneur-empowher/
END:VEVENT
BEGIN:VEVENT
DTSTART;TZID=Asia/Kuala_Lumpur:20251103T100000
DTEND;TZID=Asia/Kuala_Lumpur:20251109T110000
DTSTAMP:20260421T112135
CREATED:20251101T020556Z
LAST-MODIFIED:20251101T020556Z
UID:6314-1762164000-1762686000@pprsribidor.nadi.my
SUMMARY:E-KELAS Module 1
DESCRIPTION:E-KELAS Module 1
URL:https://pprsribidor.nadi.my/event/e-kelas-module-1/
END:VEVENT
BEGIN:VEVENT
DTSTART;TZID=Asia/Kuala_Lumpur:20251107T090000
DTEND;TZID=Asia/Kuala_Lumpur:20251109T170000
DTSTAMP:20260421T112135
CREATED:20251101T015839Z
LAST-MODIFIED:20251101T015839Z
UID:6294-1762506000-1762707600@pprsribidor.nadi.my
SUMMARY:AWARENESS CLASS
DESCRIPTION:AWARENESS CLASS
URL:https://pprsribidor.nadi.my/event/awareness-class/
END:VEVENT
END:VCALENDAR